BEGIN:VCALENDAR
VERSION:2.0
PRODID:-//Společenství vlastníků jednotek Krupská 16-18-20. - ECPv6.11.2//NONSGML v1.0//EN
CALSCALE:GREGORIAN
METHOD:PUBLISH
X-WR-CALNAME:Společenství vlastníků jednotek Krupská 16-18-20.
X-ORIGINAL-URL:https://www.krupska161820.cz
X-WR-CALDESC:Akce na Společenství vlastníků jednotek Krupská 16-18-20.
REFRESH-INTERVAL;VALUE=DURATION:PT1H
X-Robots-Tag:noindex
X-PUBLISHED-TTL:PT1H
BEGIN:VTIMEZONE
TZID:Europe/Prague
BEGIN:DAYLIGHT
TZOFFSETFROM:+0100
TZOFFSETTO:+0200
TZNAME:CEST
DTSTART:20220327T010000
END:DAYLIGHT
BEGIN:STANDARD
TZOFFSETFROM:+0200
TZOFFSETTO:+0100
TZNAME:CET
DTSTART:20221030T010000
END:STANDARD
END:VTIMEZONE
BEGIN:VEVENT
DTSTART;TZID=Europe/Prague:20220518T180000
DTEND;TZID=Europe/Prague:20220518T193000
DTSTAMP:20260426T055221
CREATED:20220410T184052Z
LAST-MODIFIED:20220410T184052Z
UID:44-1652896800-1652902200@www.krupska161820.cz
SUMMARY:shromáždění společenství vlastníků jednotek 2022
DESCRIPTION:Program: \n\nZahájení a volba zapisovatele a ověřovatele zápisu\, volba skrutátora\, schválení programu výročního shromáždění.\nZpráva o hospodaření SVJ za rok 2021 – účetní uzávěrka.\nZpráva kontrolní komise SVJ za rok 2021.\nZpráva činnosti výboru SVJ v roce 2021 a plán na rok 2022.\nZpráva – audit o stavu nemovitosti byt. Domu a plán investic.\nNávrh domovního řádu.\nDiskuse\nNávrh usnesení a závěr\n\nČlenové SVJ Krupská 16-18-20\, kteří se z vážných důvodů nemohou jednání shromáždění zúčastnit\, mohou pověřit jiného člena (popř. nečlena) svým zastupováním a hlasovacím právem. K tomu je zapotřebí u prezentace předložit plnou moc a občanský průkaz\, pokud toto neoznámí předem výboru SVJ. Výbor SVJ konstatuje\, že na základě mimořádných opatření vlády (covid-19) či opatření hygieniků\, může dojít ke změnám termínu či místa konání shromáždění. \n  \n 
URL:https://www.krupska161820.cz/akce/shromazdeni-spolecenstvi-vlastniku-jednotek-2022/
LOCATION:školní jídelna Gymnázia Voděradská\, Česká republika
END:VEVENT
END:VCALENDAR